BEGIN:VCALENDAR
VERSION:2.0
CALSCALE:GREGORIAN
METHOD:PUBLISH
X-WR-TIMEZONE:Australia/Sydney
BEGIN:VTIMEZONE
TZID:Australia/Sydney
BEGIN:STANDARD
TZNAME:AEST
DTSTART:19700101T000000
TZOFFSETFROM:+1100
TZOFFSETTO:+1000
END:STANDARD
END:VTIMEZONE
BEGIN:VEVENT
DTSTART;TZID=Australia/Sydney:20240223T153000
DTEND;TZID=Australia/Sydney:20240223T170000
DTSTAMP:20260423T125753
UID:109
SUMMARY:Hang Around School Friday
DESCRIPTION:




Friday nights are very good for &amp;lsquo;hanging around school&amp;rsquo; and on Friday 23rd February&amp;nbsp;November, a Hang Around School Friday is being organised to allow families to socialise and just let their children play at school. This will occur from school time until 5.00 pm. The PFA will be running a sausage sizzle ($2.50 per sausage &amp;ndash; cheaper than Bunnings!) and and other items will also be sold.
If parents would like to have a couple of quiet Friday afternoon BYO drinks as well, that should be fine. Hope to see you then. Please note that from 3.45 pm the school is not responsible for students and that all students must be with a parent or supervising adult.


SEQUENCE:0
STATUS:CONFIRMED
TRANSP:OPAQUE
END:VEVENT
END:VCALENDAR