BEGIN:VCALENDAR
VERSION:2.0
CALSCALE:GREGORIAN
METHOD:PUBLISH
X-WR-TIMEZONE:Australia/Sydney
BEGIN:VTIMEZONE
TZID:Australia/Sydney
BEGIN:STANDARD
TZNAME:AEST
END:STANDARD
END:VTIMEZONE
BEGIN:VEVENT
DTSTART;TZID=Australia/Sydney:20240202T090000
DTEND;TZID=Australia/Sydney:20240202T110000
RRULE:FREQ=WEEKLY;UNTIL=20240322T110000;BYDAY=FR
DTSTAMP:20260423T131354
UID:20
SUMMARY:Inter-school Sport
DESCRIPTION:




Fixture details


SEQUENCE:0
STATUS:CONFIRMED
TRANSP:OPAQUE
END:VEVENT
END:VCALENDAR